BEGIN:VCALENDAR
VERSION:2.0
PRODID:-//AMEC | Association of Mining and Exploration Company - ECPv5.3.1.1//NONSGML v1.0//EN
CALSCALE:GREGORIAN
METHOD:PUBLISH
X-WR-CALNAME:AMEC | Association of Mining and Exploration Company
X-ORIGINAL-URL:https://www.amec.org.au
X-WR-CALDESC:Events for AMEC | Association of Mining and Exploration Company
BEGIN:VTIMEZONE
TZID:AWST
END:VTIMEZONE
BEGIN:VEVENT
DTSTART;TZID=AWST:20200218T000000
DTEND;TZID=AWST:20200221T000000
DTSTAMP:20210227T174104
CREATED:20200218T032528Z
LAST-MODIFIED:20200218T032528Z
UID:2930-1581984000-1582243200@www.amec.org.au
SUMMARY:RIU Explorers Conference
DESCRIPTION:
URL:https://www.amec.org.au/event/riu-explorers-conference/
CATEGORIES:Industry Events
ATTACH;FMTTYPE=image/png:https://secureservercdn.net/198.71.233.51/0h5.0cf.myftpupload.com/wp-content/uploads/2020/01/tribe-related-events-placeholder.png?time=1614225169
END:VEVENT
END:VCALENDAR