BEGIN:VCALENDAR
VERSION:2.0
PRODID:-//AMEC | Association of Mining and Exploration Company - ECPv5.3.1.1//NONSGML v1.0//EN
CALSCALE:GREGORIAN
METHOD:PUBLISH
X-WR-CALNAME:AMEC | Association of Mining and Exploration Company
X-ORIGINAL-URL:https://www.amec.org.au
X-WR-CALDESC:Events for AMEC | Association of Mining and Exploration Company
BEGIN:VTIMEZONE
TZID:AWST
END:VTIMEZONE
BEGIN:VEVENT
DTSTART;TZID=AWST:20200303T000000
DTEND;TZID=AWST:20200303T000000
DTSTAMP:20210301T112219
CREATED:20200218T032120Z
LAST-MODIFIED:20200310T053628Z
UID:2875-1583193600-1583193600@www.amec.org.au
SUMMARY:Aboriginal Affairs Committee
DESCRIPTION:
URL:https://www.amec.org.au/event/aboriginal-affairs-committee/
LOCATION:Perth\, WA\, Australia
CATEGORIES:Council & Committees
ATTACH;FMTTYPE=image/jpeg:https://secureservercdn.net/198.71.233.51/0h5.0cf.myftpupload.com/wp-content/uploads/2020/02/Committees-scaled-2.jpg?time=1614225169
GEO:-27.6728168;121.6283098
END:VEVENT
END:VCALENDAR