BEGIN:VCALENDAR
VERSION:2.0
PRODID:-//AMEC | Association of Mining and Exploration Company - ECPv5.3.1.1//NONSGML v1.0//EN
CALSCALE:GREGORIAN
METHOD:PUBLISH
X-WR-CALNAME:AMEC | Association of Mining and Exploration Company
X-ORIGINAL-URL:https://www.amec.org.au
X-WR-CALDESC:Events for AMEC | Association of Mining and Exploration Company
BEGIN:VTIMEZONE
TZID:ACST
END:VTIMEZONE
BEGIN:VEVENT
DTSTART;TZID=ACST:20200402T000000
DTEND;TZID=ACST:20200402T000000
DTSTAMP:20210301T112319
CREATED:20200218T032153Z
LAST-MODIFIED:20200310T053628Z
UID:2918-1585785600-1585785600@www.amec.org.au
SUMMARY:SA Advisory Committee meeting
DESCRIPTION:
URL:https://www.amec.org.au/event/sa-advidory-committee-meeting-2/
LOCATION:Adelaide\, SA\, Australia
CATEGORIES:Council & Committees
ATTACH;FMTTYPE=image/jpeg:https://secureservercdn.net/198.71.233.51/0h5.0cf.myftpupload.com/wp-content/uploads/2020/02/Committees-scaled-2.jpg?time=1614225169
GEO:-30.0002315;136.2091547
END:VEVENT
END:VCALENDAR