BEGIN:VCALENDAR
VERSION:2.0
PRODID:-//AMEC | Association of Mining and Exploration Company - ECPv5.3.1.1//NONSGML v1.0//EN
CALSCALE:GREGORIAN
METHOD:PUBLISH
X-WR-CALNAME:AMEC | Association of Mining and Exploration Company
X-ORIGINAL-URL:https://www.amec.org.au
X-WR-CALDESC:Events for AMEC | Association of Mining and Exploration Company
BEGIN:VTIMEZONE
TZID:Australia/Perth
BEGIN:STANDARD
TZOFFSETFROM:+0800
TZOFFSETTO:+0800
TZNAME:AWST
DTSTART:20210101T000000
END:STANDARD
END:VTIMEZONE
BEGIN:VEVENT
DTSTART;VALUE=DATE:20210121
DTEND;VALUE=DATE:20210122
DTSTAMP:20210227T172219
CREATED:20210121T051619Z
LAST-MODIFIED:20210201T052152Z
UID:4563-1611187200-1611273599@www.amec.org.au
SUMMARY:Boardroom Lunch
DESCRIPTION:
URL:https://www.amec.org.au/event/boardroom-lunch-11/
LOCATION:Perth\, WA\, Australia
CATEGORIES:Boardroom Lunches
ATTACH;FMTTYPE=image/jpeg:https://secureservercdn.net/198.71.233.51/0h5.0cf.myftpupload.com/wp-content/uploads/2020/02/Seminars-and-conferences-1-1024x681-1.jpg?time=1614225169
GEO:-27.6728168;121.6283098
END:VEVENT
END:VCALENDAR