BEGIN:VCALENDAR
VERSION:2.0
PRODID:-//AMEC | Association of Mining and Exploration Company - ECPv5.3.1.1//NONSGML v1.0//EN
CALSCALE:GREGORIAN
METHOD:PUBLISH
X-WR-CALNAME:AMEC | Association of Mining and Exploration Company
X-ORIGINAL-URL:https://www.amec.org.au
X-WR-CALDESC:Events for AMEC | Association of Mining and Exploration Company
BEGIN:VTIMEZONE
TZID:Australia/Perth
BEGIN:STANDARD
TZOFFSETFROM:+0800
TZOFFSETTO:+0800
TZNAME:AWST
DTSTART:20210101T000000
END:STANDARD
END:VTIMEZONE
BEGIN:VEVENT
DTSTART;TZID=Australia/Perth:20210330T160000
DTEND;TZID=Australia/Perth:20210330T190000
DTSTAMP:20210227T172303
CREATED:20210204T031534Z
LAST-MODIFIED:20210204T031534Z
UID:4584-1617120000-1617130800@www.amec.org.au
SUMMARY:Investor Briefing
DESCRIPTION:AMEC hosts Investor Briefings offering listed mining and exploration companies the opportunity to present to a targeted audience of investors.
URL:https://www.amec.org.au/event/investor-briefing-5/
LOCATION:The Melbourne Hotel\, 33 Milligan St\, Perth\, WA\, 6000\, Australia
CATEGORIES:Investor Briefings
ATTACH;FMTTYPE=image/jpeg:https://secureservercdn.net/198.71.233.51/0h5.0cf.myftpupload.com/wp-content/uploads/2020/02/Seminars-and-conferences-1-1024x681-1.jpg?time=1614225169
GEO:-31.9515015;115.8513892
X-APPLE-STRUCTURED-LOCATION;VALUE=URI;X-ADDRESS=The Melbourne Hotel 33 Milligan St Perth WA 6000 Australia;X-APPLE-RADIUS=500;X-TITLE=33 Milligan St:geo:115.8513892,-31.9515015
END:VEVENT
END:VCALENDAR