BEGIN:VCALENDAR
VERSION:2.0
PRODID:-//AMEC | Association of Mining and Exploration Company - ECPv5.3.1.1//NONSGML v1.0//EN
CALSCALE:GREGORIAN
METHOD:PUBLISH
X-WR-CALNAME:AMEC | Association of Mining and Exploration Company
X-ORIGINAL-URL:https://www.amec.org.au
X-WR-CALDESC:Events for AMEC | Association of Mining and Exploration Company
BEGIN:VTIMEZONE
TZID:Australia/Sydney
BEGIN:STANDARD
TZOFFSETFROM:+1100
TZOFFSETTO:+1000
TZNAME:AEST
DTSTART:20210403T160000
END:STANDARD
BEGIN:DAYLIGHT
TZOFFSETFROM:+1000
TZOFFSETTO:+1100
TZNAME:AEDT
DTSTART:20211002T160000
END:DAYLIGHT
END:VTIMEZONE
BEGIN:VEVENT
DTSTART;TZID=Australia/Sydney:20210223T110000
DTEND;TZID=Australia/Sydney:20210223T150000
DTSTAMP:20210227T173106
CREATED:20210127T033357Z
LAST-MODIFIED:20210203T032327Z
UID:4538-1614078000-1614092400@www.amec.org.au
SUMMARY:NSW Breaking Ground 2021 Virtual Seminar
DESCRIPTION:Start the new year on the front foot with this webinar for the NSW minerals industry. \n This interactive virtual seminar will have two sessions: \nIn the morning session\, hear from NSW Government leaders on their priorities and plans for 2021\, with presentations focussed on practical information that the minerals industry needs to know. Speakers include Stephen Wills\, Acting Deputy Secretary and Janette Hewson\, Executive Director Investment Attraction\, NSW Mining\, Exploration and Geoscience (MEG); Anthony Keon\, Executive Director\, NSW Resources Regulator; Marcus Ray\, Deputy Secretary\, Department of Planning\, Industry and Environment.  \nThe second half of the day will focus on land access for exploration with the launch the AMEC Land Access Toolkit 2021 accompanied by presentations from leading legal and community consultation experts with time to ensure that participants have their questions answered. \nThis webinar will have a practical focus on what the minerals industry needs to know for the coming year. For more information email events@amec.org.au
URL:https://www.amec.org.au/event/nsw-breaking-ground-2021-virtual-seminar/
LOCATION:Video Conference
CATEGORIES:Seminars & Workshops
ATTACH;FMTTYPE=image/jpeg:https://secureservercdn.net/198.71.233.51/0h5.0cf.myftpupload.com/wp-content/uploads/2021/01/AMEC-Webinar-Banner-2.jpg?time=1614225169
GEO:-25.274398;133.775136
END:VEVENT
END:VCALENDAR