BEGIN:VCALENDAR
VERSION:2.0
PRODID:-//AMEC | Association of Mining and Exploration Company - ECPv5.3.1.1//NONSGML v1.0//EN
CALSCALE:GREGORIAN
METHOD:PUBLISH
X-WR-CALNAME:AMEC | Association of Mining and Exploration Company
X-ORIGINAL-URL:https://www.amec.org.au
X-WR-CALDESC:Events for AMEC | Association of Mining and Exploration Company
BEGIN:VTIMEZONE
TZID:Australia/Perth
BEGIN:STANDARD
TZOFFSETFROM:+0800
TZOFFSETTO:+0800
TZNAME:AWST
DTSTART:20210101T000000
END:STANDARD
END:VTIMEZONE
BEGIN:VEVENT
DTSTART;TZID=Australia/Perth:20210211T163000
DTEND;TZID=Australia/Perth:20210211T183000
DTSTAMP:20210227T173220
CREATED:20210204T034821Z
LAST-MODIFIED:20210204T034821Z
UID:4604-1613061000-1613068200@www.amec.org.au
SUMMARY:QLD Networking Event
DESCRIPTION:AMEC is hosting a Networking Sundowners for our members to catch-up on what is happening around the industry.
URL:https://www.amec.org.au/event/qld-networking-event/
LOCATION:Brisbane\, QLD\, Australia
CATEGORIES:Sundowners & Networking Events
ATTACH;FMTTYPE=image/jpeg:https://secureservercdn.net/198.71.233.51/0h5.0cf.myftpupload.com/wp-content/uploads/2020/02/Sundowner-and-networking-1-1024x768-1.jpg?time=1614225169
GEO:-20.9175738;142.7027956
END:VEVENT
BEGIN:VEVENT
DTSTART;TZID=Australia/Perth:20210211T170000
DTEND;TZID=Australia/Perth:20210211T183000
DTSTAMP:20210227T173220
CREATED:20210204T034638Z
LAST-MODIFIED:20210204T034638Z
UID:4602-1613062800-1613068200@www.amec.org.au
SUMMARY:SA Networking Event
DESCRIPTION:AMEC is hosting a Networking Sundowners for our members to catch-up on what is happening around the industry.
URL:https://www.amec.org.au/event/sa-networking-event/
LOCATION:Adelaide\, SA\, Australia
CATEGORIES:Sundowners & Networking Events
ATTACH;FMTTYPE=image/jpeg:https://secureservercdn.net/198.71.233.51/0h5.0cf.myftpupload.com/wp-content/uploads/2020/02/Sundowner-and-networking-1-1024x768-1.jpg?time=1614225169
GEO:-30.0002315;136.2091547
END:VEVENT
END:VCALENDAR