BEGIN:VCALENDAR
VERSION:2.0
PRODID:-//AMEC | Association of Mining and Exploration Company - ECPv5.3.1.1//NONSGML v1.0//EN
CALSCALE:GREGORIAN
METHOD:PUBLISH
X-WR-CALNAME:AMEC | Association of Mining and Exploration Company
X-ORIGINAL-URL:https://www.amec.org.au
X-WR-CALDESC:Events for AMEC | Association of Mining and Exploration Company
BEGIN:VTIMEZONE
TZID:Australia/Perth
BEGIN:STANDARD
TZOFFSETFROM:+0800
TZOFFSETTO:+0800
TZNAME:AWST
DTSTART:20210101T000000
END:STANDARD
END:VTIMEZONE
BEGIN:VEVENT
DTSTART;TZID=Australia/Perth:20210225T170000
DTEND;TZID=Australia/Perth:20210225T190000
DTSTAMP:20210227T173228
CREATED:20210204T032847Z
LAST-MODIFIED:20210204T033148Z
UID:4590-1614272400-1614279600@www.amec.org.au
SUMMARY:WA Networking Event
DESCRIPTION:AMEC is hosting a Networking Sundowners for our members to catch-up on what is happening around the industry.
URL:https://www.amec.org.au/event/wa-networking-event-3/
LOCATION:Perth\, WA\, Australia
CATEGORIES:Sundowners & Networking Events
ATTACH;FMTTYPE=image/jpeg:https://secureservercdn.net/198.71.233.51/0h5.0cf.myftpupload.com/wp-content/uploads/2020/02/Sundowner-and-networking-1-1024x768-1.jpg?time=1614225169
GEO:-27.6728168;121.6283098
END:VEVENT
END:VCALENDAR